BEGIN:VCALENDAR
VERSION:2.0
PRODID:-//Toledo Sacro - ECPv6.15.20//NONSGML v1.0//EN
CALSCALE:GREGORIAN
METHOD:PUBLISH
X-WR-CALNAME:Toledo Sacro
X-ORIGINAL-URL:https://toledosacro.es
X-WR-CALDESC:Eventos para Toledo Sacro
REFRESH-INTERVAL;VALUE=DURATION:PT1H
X-Robots-Tag:noindex
X-PUBLISHED-TTL:PT1H
BEGIN:VTIMEZONE
TZID:Europe/Paris
BEGIN:DAYLIGHT
TZOFFSETFROM:+0100
TZOFFSETTO:+0200
TZNAME:CEST
DTSTART:20250330T010000
END:DAYLIGHT
BEGIN:STANDARD
TZOFFSETFROM:+0200
TZOFFSETTO:+0100
TZNAME:CET
DTSTART:20251026T010000
END:STANDARD
BEGIN:DAYLIGHT
TZOFFSETFROM:+0100
TZOFFSETTO:+0200
TZNAME:CEST
DTSTART:20260329T010000
END:DAYLIGHT
BEGIN:STANDARD
TZOFFSETFROM:+0200
TZOFFSETTO:+0100
TZNAME:CET
DTSTART:20261025T010000
END:STANDARD
BEGIN:DAYLIGHT
TZOFFSETFROM:+0100
TZOFFSETTO:+0200
TZNAME:CEST
DTSTART:20270328T010000
END:DAYLIGHT
BEGIN:STANDARD
TZOFFSETFROM:+0200
TZOFFSETTO:+0100
TZNAME:CET
DTSTART:20271031T010000
END:STANDARD
END:VTIMEZONE
BEGIN:VEVENT
DTSTART;TZID=Europe/Paris:20260327T180000
DTEND;TZID=Europe/Paris:20260327T190000
DTSTAMP:20260422T123935
CREATED:20260225T093539Z
LAST-MODIFIED:20260225T125851Z
UID:1725-1774634400-1774638000@toledosacro.es
SUMMARY:Viernes de Dolores — Solemne Función Principal de la Soledad
DESCRIPTION:El Viernes de Dolores\, 27 de marzo de 2026\, la Cofradía celebrará una de las jornadas más señaladas en honor a Nuestra Señora de la Soledad. \nA las 10:00 horas tendrá lugar la Santa Misa en honor a la Santísima Virgen. \nYa por la tarde\, a las 18:00 horas\, se celebrará la Solemne Función Principal de la Cofradía\, durante la cual se procederá a la imposición de medallas.
URL:https://toledosacro.es/event/viernes-de-dolores-solemne-funcion-principal-de-la-soledad
LOCATION:Parroquia Mozárabe de las Santas Justa y Rufina\, C. Sta. Justa\, 4\, Toledo\, Toledo\, 45001\, Spain
CATEGORIES:Cultos
ATTACH;FMTTYPE=image/jpeg:https://toledosacro.es/wp-content/uploads/2026/02/CARTEL-SOLEDAD-2026.jpeg
END:VEVENT
BEGIN:VEVENT
DTSTART;TZID=Europe/Paris:20260327T190000
DTEND;TZID=Europe/Paris:20260327T200000
DTSTAMP:20260422T123935
CREATED:20260311T123738Z
LAST-MODIFIED:20260311T123738Z
UID:1784-1774638000-1774641600@toledosacro.es
SUMMARY:Cultos en honor al Santísimo Cristo de la Esperanza
DESCRIPTION:La Iglesia de San Andrés de Toledo acogerá el próximo viernes 27 de marzo los cultos en honor al Santísimo Cristo de la Esperanza\, una cita de especial significado para los devotos de esta venerada imagen del casco histórico. \nEl acto tendrá lugar a las 19:00 horas\, reuniendo a hermanos y fieles en torno a la veneración del crucificado\, una de las devociones más arraigadas de este templo toledano. \nEstos cultos se enmarcan dentro de los actos preparatorios de la Semana Santa en Toledo\, invitando a los fieles a participar en un momento de oración y recogimiento ante la imagen del Santísimo Cristo de la Esperanza.
URL:https://toledosacro.es/event/cultos-en-honor-al-santisimo-cristo-de-la-esperanza
LOCATION:Iglesia de San Andrés\, Pl. San Andrés\, 2\, Toledo\, Toledo\, 45002\, Spain
CATEGORIES:Cultos
ATTACH;FMTTYPE=image/jpeg:https://toledosacro.es/wp-content/uploads/2026/03/cartel-cultos-crsitos-esperanza-toledo-2026.jpeg
END:VEVENT
BEGIN:VEVENT
DTSTART;TZID=Europe/Paris:20260328T130000
DTEND;TZID=Europe/Paris:20260328T143000
DTSTAMP:20260422T123935
CREATED:20260225T085326Z
LAST-MODIFIED:20260225T130408Z
UID:1700-1774702800-1774708200@toledosacro.es
SUMMARY:II Encuentro de Bandas — Banda de Música de Villaseca de la Sagra
DESCRIPTION:El ciclo culminará el sábado 28 de marzo de 2026 a las 13:00 horas en la Ermita del Valle\, con la participación de la Banda de Música de Villaseca de la Sagra. \nUna clausura en un enclave singular de la ciudad\, que pondrá el broche final a un mes en el que la música de Semana Santa habrá vuelto a tener un lugar protagonista en Toledo y su provincia.
URL:https://toledosacro.es/event/ii-encuentro-de-bandas-banda-de-musica-de-villaseca-de-la-sagra
LOCATION:Ermita de la Virgen del Valle\, Ctra. Circunvalación\, 19\, Toledo\, Toledo\, 45004\, Spain
CATEGORIES:Conciertos
ATTACH;FMTTYPE=image/jpeg:https://toledosacro.es/wp-content/uploads/2026/02/WhatsApp-Image-2026-02-24-at-20.51.21.jpeg
END:VEVENT
BEGIN:VEVENT
DTSTART;TZID=Europe/Paris:20260329T123000
DTEND;TZID=Europe/Paris:20260329T140000
DTSTAMP:20260422T123935
CREATED:20260225T083823Z
LAST-MODIFIED:20260305T124005Z
UID:1687-1774787400-1774792800@toledosacro.es
SUMMARY:Misa Solemne de Imposición de Hábitos y Bendición de Medallas - Descendimiento
DESCRIPTION:El domingo 29 de marzo\, Domingo de Ramos\, a las 12:30 horas\, la Parroquia Mozárabe de las Santas Justa y Rufina acogerá la Misa Solemne de Imposición de Hábitos y Bendición de Medallas a los nuevos hermanos de la Cofradía. \nUn acto especialmente significativo en la vida interna de la corporación\, en el que los nuevos cofrades asumirán públicamente su compromiso. La celebración contará con la invitación a las Cofradías y Hermandades de Penitencia de la ciudad\, así como a miembros de la Junta de Cofradías y representación de la Corporación Municipal.
URL:https://toledosacro.es/event/misa-solemne-de-imposicion-de-habitos-y-bendicion-de-medallas-descendimiento
LOCATION:Parroquia Mozárabe de las Santas Justa y Rufina\, C. Sta. Justa\, 4\, Toledo\, Toledo\, 45001\, Spain
CATEGORIES:Cultos
ATTACH;FMTTYPE=image/jpeg:https://toledosacro.es/wp-content/uploads/2026/02/descendimiento-paso.jpg
END:VEVENT
END:VCALENDAR